BEGIN:VCALENDAR
VERSION:2.0
PRODID:-//Udruga Mendula - ECPv5.9.2//NONSGML v1.0//EN
CALSCALE:GREGORIAN
METHOD:PUBLISH
X-WR-CALNAME:Udruga Mendula
X-ORIGINAL-URL:https://udruga-mendula.hr
X-WR-CALDESC:Events for Udruga Mendula
BEGIN:VTIMEZONE
TZID:UTC
BEGIN:STANDARD
TZOFFSETFROM:+0000
TZOFFSETTO:+0000
TZNAME:UTC
DTSTART:20220101T000000
END:STANDARD
END:VTIMEZONE
BEGIN:VEVENT
DTSTART;TZID=UTC:20221217T190000
DTEND;TZID=UTC:20221217T190000
DTSTAMP:20260421T082557
CREATED:20221211T160954Z
LAST-MODIFIED:20221211T160954Z
UID:1914-1671303600-1671303600@udruga-mendula.hr
SUMMARY:Mendula na "Labinskoj Bozičnoj bajci" prikuplja donacije za mamograf
DESCRIPTION:Udruga “Mendula” na “Labinskoj Božićnoj bajci” u sklopu humanitarne akcije “LABINŠTINA HOĆE! za mamograf” sudjeluje humanitarnom prodajom fritula\, toplih napitaka: vino\, kakao\, ….
URL:https://udruga-mendula.hr/event/mendula-na-labinskoj-bozicnoj-bajci-prikuplja-donacije-za-mamograf-2/
END:VEVENT
END:VCALENDAR